BEGIN:VCALENDAR
VERSION:2.0
PRODID:-//SportPlan//Event Calendar//EN
CALSCALE:GREGORIAN
BEGIN:VEVENT
UID:c56617cf-b75d-49b9-a3e8-c4095000ae33@sportplan.local
DTSTAMP:20260420T181636Z
DTSTART;VALUE=DATE:20261008
DTEND;VALUE=DATE:20261012
SUMMARY:HWPO HYROX Boston 2026
DESCRIPTION:HWPO HYROX Boston 2026 is an official mass-participation HYROX race weekend in Boston\, United States. The official HYROX event page states that HYROX returns to Boston for four days of racing and welcomes athletes chasing personal bests as well as first-time participants\, indicating a public-entry amateur format rather than an invite-only race.
LOCATION:Boston
URL:https://sportplan.vercel.app/it/events/hwpo-hyrox-boston-2026-2026-10-08
END:VEVENT
END:VCALENDAR
