BEGIN:VCALENDAR
VERSION:2.0
PRODID:-//SportPlan//Event Calendar//EN
CALSCALE:GREGORIAN
BEGIN:VEVENT
UID:396377a9-f41d-4782-b685-3ad0d3fb5819@sportplan.local
DTSTAMP:20260420T211508Z
DTSTART;VALUE=DATE:20260826
DTEND;VALUE=DATE:20260827
SUMMARY:Hoka UTMB Mont-Blanc — Tds 145K
DESCRIPTION:Hoka UTMB Mont-Blanc — Tds 145K aura lieu le 26 août 2026 à Chamonix\, Haute-Savoie. C'est un rendez-vous idéal pour les participants à la recherche d'un défi bien organisé en FR\, avec une ambiance motivante du début à la fin. Avec une distance d'environ 145 km\, l'événement propose une expérience sportive attractive pour les habitués comme pour ceux qui veulent se fixer un nouvel objectif.
LOCATION:Chamonix\, Haute-Savoie
URL:https://sportplan.vercel.app/it/events/hoka-utmb-mont-blanc-tds-145k-chamonix-2026-08-26
END:VEVENT
END:VCALENDAR
