BEGIN:VCALENDAR
VERSION:2.0
PRODID:-//SportPlan//Event Calendar//EN
CALSCALE:GREGORIAN
BEGIN:VEVENT
UID:e035d64e-68f0-42e3-9e1e-9b576cf05847@sportplan.local
DTSTAMP:20260420T211618Z
DTSTART;VALUE=DATE:20261005
DTEND;VALUE=DATE:20261006
SUMMARY:Higuero Running Festival 10K
DESCRIPTION:Higuero Running Festival 10K se celebrará en Aranda de Duero\, Burgos\, Castilla y León el 5 octubre 2026. Es una cita ideal para quienes buscan una experiencia deportiva bien organizada y un recorrido de 10 km. Perfecto tanto para participantes que quieren rendir al máximo como para quienes desean disfrutar del ambiente del evento.
LOCATION:Aranda de Duero\, Burgos\, Castilla y León
URL:https://sportplan.vercel.app/it/events/higuero-running-festival-10k-aranda-de-duero-2026-10-05-10k
END:VEVENT
END:VCALENDAR
