BEGIN:VCALENDAR
VERSION:2.0
PRODID:-//SportPlan//Event Calendar//EN
CALSCALE:GREGORIAN
BEGIN:VEVENT
UID:8c7111fb-6000-4e69-a22c-fc2d29a492c4@sportplan.local
DTSTAMP:20260420T211221Z
DTSTART;VALUE=DATE:20260509
DTEND;VALUE=DATE:20260510
SUMMARY:Hausruckchallenge
DESCRIPTION:Hausruckchallenge findet am 9. Mai 2026 in Geboltskirchen statt und bietet eine ideale Gelegenheit für Teilnehmende\, die ein gut organisiertes Sporterlebnis suchen. Die Veranstaltung bietet eine Strecke mit einer klar markierten Strecke\, um die Umgebung zu genießen\, ein gutes Tempo zu halten und gemeinsam mit anderen einen gelungenen Tag zu erleben.
LOCATION:Geboltskirchen
URL:https://sportplan.vercel.app/it/events/hausruckchallenge-geboltskirchen-2026-05-09
END:VEVENT
END:VCALENDAR
