BEGIN:VCALENDAR
VERSION:2.0
PRODID:-//SportPlan//Event Calendar//EN
CALSCALE:GREGORIAN
BEGIN:VEVENT
UID:910578f8-5810-4b34-b82e-f3875ad27a88@sportplan.local
DTSTAMP:20260421T012930Z
DTSTART;VALUE=DATE:20270320
DTEND;VALUE=DATE:20270321
SUMMARY:HalvBirken Ski 28K 2027
DESCRIPTION:HalvBirken Ski 28K is Birken’s shorter mass-participation cross-country ski race in Norway on Saturday 20 March 2027. The official Birken event page confirms the 2027 edition\, states that the course starts at Sjusjøen Ski Arena and finishes at Birkebeineren Ski Stadium in Lillehammer\, and presents it as a classic-technique race for skiers who want the Birken mountain experience in a shorter format.
LOCATION:Sjusjøen Ski Arena to Birkebeineren Ski Stadium\, Innlandet\, Norway
URL:https://sportplan.vercel.app/it/events/halvbirken-ski-28k-2027-sjusjoen-2027-03-20
END:VEVENT
END:VCALENDAR
