BEGIN:VCALENDAR
VERSION:2.0
PRODID:-//SportPlan//Event Calendar//EN
CALSCALE:GREGORIAN
BEGIN:VEVENT
UID:151801bf-d032-4374-8fd5-b6c31ab8e51e@sportplan.local
DTSTAMP:20260420T224452Z
DTSTART;VALUE=DATE:20260503
DTEND;VALUE=DATE:20260504
SUMMARY:Gwangju International Half Marathon 2026
DESCRIPTION:Official World Athletics calendar\; annual spring half marathon in Gwangju Metropolitan City
LOCATION:Gwangju (KOR)
URL:https://sportplan.vercel.app/it/events/gwangju-international-half-marathon-2026-2026-05-03
END:VEVENT
END:VCALENDAR
