BEGIN:VCALENDAR
VERSION:2.0
PRODID:-//SportPlan//Event Calendar//EN
CALSCALE:GREGORIAN
BEGIN:VEVENT
UID:77941f0c-4c6f-4daa-b917-1a05432b0673@sportplan.local
DTSTAMP:20260420T194805Z
DTSTART;VALUE=DATE:20260509
DTEND;VALUE=DATE:20260510
SUMMARY:GutsMuths-Rennsteiglauf
DESCRIPTION:GutsMuths-Rennsteiglauf findet am 9. Mai 2026 in Ilmenau statt und bietet eine ideale Gelegenheit für Teilnehmende\, die ein gut organisiertes Sporterlebnis suchen. Die Veranstaltung bietet eine Strecke mit einer klar markierten Strecke\, um die Umgebung zu genießen\, ein gutes Tempo zu halten und gemeinsam mit anderen einen gelungenen Tag zu erleben.
LOCATION:Ilmenau
URL:https://sportplan.vercel.app/it/events/gutsmuths-rennsteiglauf-ilmenau-2026-05-09
END:VEVENT
END:VCALENDAR
