BEGIN:VCALENDAR
VERSION:2.0
PRODID:-//SportPlan//Event Calendar//EN
CALSCALE:GREGORIAN
BEGIN:VEVENT
UID:3998096e-ae87-48d7-946e-62a2fe456434@sportplan.local
DTSTAMP:20260420T202008Z
DTSTART;VALUE=DATE:20260601
DTEND;VALUE=DATE:20260602
SUMMARY:Guguy Trail Entrecorrales Tasartico
DESCRIPTION:Guguy Trail Entrecorrales Tasartico se celebra el 1 de junio de 2026 en La Aldea de San Nicolás\, Gran Canaria\, Canarias. Es una excelente opción para quienes quieren disfrutar de un evento bien organizado en este destino. La prueba recorre 10.5 km. Se espera un ambiente animado y una jornada memorable tanto para corredores habituales como para debutantes.
LOCATION:La Aldea de San Nicolás\, Gran Canaria\, Canarias
URL:https://sportplan.vercel.app/it/events/guguy-trail-entrecorrales-tasartico-la-aldea-de-san-nicolas-2026-06-01-10-5k
END:VEVENT
END:VCALENDAR
