BEGIN:VCALENDAR
VERSION:2.0
PRODID:-//SportPlan//Event Calendar//EN
CALSCALE:GREGORIAN
BEGIN:VEVENT
UID:875f4bf7-aefa-42c7-bc57-31cde85289e4@sportplan.local
DTSTAMP:20260420T211218Z
DTSTART;VALUE=DATE:20260919
DTEND;VALUE=DATE:20260920
SUMMARY:Greifenseelauf Half Marathon
DESCRIPTION:discovered via TimeOutdoors Switzerland runs calendar\; underrepresented-country rotation for Swiss road/mountain running discovery
LOCATION:Greifensee\, Switzerland
URL:https://sportplan.vercel.app/it/events/greifenseelauf-half-marathon-2026-09-19
END:VEVENT
END:VCALENDAR
