BEGIN:VCALENDAR
VERSION:2.0
PRODID:-//SportPlan//Event Calendar//EN
CALSCALE:GREGORIAN
BEGIN:VEVENT
UID:de2ab32d-ba93-4878-9fa4-3b86fed7f4ac@sportplan.local
DTSTAMP:20260420T224458Z
DTSTART;VALUE=DATE:20261012
DTEND;VALUE=DATE:20261013
SUMMARY:Granville Island Turkey Trot
DESCRIPTION:discovered via official RUNVAN races page\; annual Thanksgiving Monday community run with charity fundraising\; stable recurring URL
LOCATION:Vancouver\, BC\, Canada
URL:https://sportplan.vercel.app/it/events/granville-island-turkey-trot-2026-10-12
END:VEVENT
END:VCALENDAR
