BEGIN:VCALENDAR
VERSION:2.0
PRODID:-//SportPlan//Event Calendar//EN
CALSCALE:GREGORIAN
BEGIN:VEVENT
UID:5d067571-bafa-47a7-a8ca-b40c2ef31571@sportplan.local
DTSTAMP:20260420T200848Z
DTSTART;VALUE=DATE:20260913
DTEND;VALUE=DATE:20260914
SUMMARY:Granfondo Matildica 2026
DESCRIPTION:Granfondo Matildica 2026 is an amateur road-cycling granfondo in Reggio Emilia\, Italy on 13 September 2026. The official UCI Gran Fondo World Series page presents public granfondo and mediofondo routes\, describing one of the oldest granfondos in the world with a 156 km long course\, 130 km short course\, and rolling Emilia-Romagna climbs.
LOCATION:Reggio Emilia
URL:https://sportplan.vercel.app/it/events/granfondo-matildica-2026-reggio-emilia-2026-09-13
END:VEVENT
END:VCALENDAR
