BEGIN:VCALENDAR
VERSION:2.0
PRODID:-//SportPlan//Event Calendar//EN
CALSCALE:GREGORIAN
BEGIN:VEVENT
UID:4a43a843-ed9e-4693-a9a4-f0ef2afdbc52@sportplan.local
DTSTAMP:20260420T211514Z
DTSTART;VALUE=DATE:20260706
DTEND;VALUE=DATE:20260711
SUMMARY:Granfondo Giro delle Dolomiti 2026
DESCRIPTION:Granfondo Giro delle Dolomiti 2026 findet am 6. Juli 2026 in Lienz\, Tirol statt. Die Veranstaltung ist ideal für alle\, die ein gut organisiertes Event mit einer Distanz von 150 km und mit motivierender Laufatmosphäre suchen. Der Start bei diesem Rennen bietet eine schöne Gelegenheit\, die Strecke zu genießen\, sich ein sportliches Ziel zu setzen und gemeinsam mit anderen Läuferinnen und Läufern an den Start zu gehen.
LOCATION:Lienz\, Tirol
URL:https://sportplan.vercel.app/it/events/granfondo-giro-delle-dolomiti-2026-lienz-2026-07-06
END:VEVENT
END:VCALENDAR
