BEGIN:VCALENDAR
VERSION:2.0
PRODID:-//SportPlan//Event Calendar//EN
CALSCALE:GREGORIAN
BEGIN:VEVENT
UID:b090141e-be5b-4c29-85cf-9ed97967d771@sportplan.local
DTSTAMP:20260420T195039Z
DTSTART;VALUE=DATE:20261018
DTEND;VALUE=DATE:20261019
SUMMARY:Gran Fondo La Nucía 2026
DESCRIPTION:Gran Fondo La Nucía 2026 is an official amateur mass-participation road cycling event in La Nucía\, Alicante\, Spain on 18 October 2026. The official UCI Gran Fondo World Series page and organizer site describe a 132 km granfondo with 2\,275 m of climbing plus a 71 km mediofondo\, with the event serving as an open qualifier for age-group amateur riders.
LOCATION:La Nucía
URL:https://sportplan.vercel.app/it/events/gran-fondo-la-nucia-2026-la-nucia-2026-10-18
END:VEVENT
END:VCALENDAR
