BEGIN:VCALENDAR
VERSION:2.0
PRODID:-//SportPlan//Event Calendar//EN
CALSCALE:GREGORIAN
BEGIN:VEVENT
UID:f027397c-cf52-43b6-bb50-e924c86d160b@sportplan.local
DTSTAMP:20260420T211218Z
DTSTART;VALUE=DATE:20260704
DTEND;VALUE=DATE:20260705
SUMMARY:Gornergrat Zermatt Marathon
DESCRIPTION:discovered via TimeOutdoors Switzerland runs calendar\; underrepresented-country rotation for Swiss road/mountain running discovery
LOCATION:Zermatt\, Switzerland
URL:https://sportplan.vercel.app/it/events/gornergrat-zermatt-marathon-2026-07-04
END:VEVENT
END:VCALENDAR
