BEGIN:VCALENDAR
VERSION:2.0
PRODID:-//SportPlan//Event Calendar//EN
CALSCALE:GREGORIAN
BEGIN:VEVENT
UID:0ec064af-e547-4caf-9683-4dbb00ade57a@sportplan.local
DTSTAMP:20260420T194705Z
DTSTART;VALUE=DATE:20260920
DTEND;VALUE=DATE:20260921
SUMMARY:Gomera Paradise
DESCRIPTION:Gomera Paradise se celebra el 20 de septiembre de 2026 en La Gomera\, Unknown. Es una cita perfecta para vivir una jornada deportiva con un recorrido pensado para corredores de distintos niveles. Ideal tanto para quienes buscan marca como para quienes quieren disfrutar del recorrido y del ambiente del evento.
LOCATION:La Gomera\, Unknown
URL:https://sportplan.vercel.app/it/events/gomera-paradise-la-gomera-2026-09-20
END:VEVENT
END:VCALENDAR
