BEGIN:VCALENDAR
VERSION:2.0
PRODID:-//SportPlan//Event Calendar//EN
CALSCALE:GREGORIAN
BEGIN:VEVENT
UID:a9e69ea3-052a-4b54-9f3d-7e03a729a977@sportplan.local
DTSTAMP:20260420T224609Z
DTSTART;VALUE=DATE:20260927
DTEND;VALUE=DATE:20260928
SUMMARY:Glass Canada Railway City Road Races
DESCRIPTION:
LOCATION:St. Thomas
URL:https://sportplan.vercel.app/it/events/glass-canada-railway-city-road-races-st-thomas-2026-09-27
END:VEVENT
END:VCALENDAR
