BEGIN:VCALENDAR
VERSION:2.0
PRODID:-//SportPlan//Event Calendar//EN
CALSCALE:GREGORIAN
BEGIN:VEVENT
UID:1c1e996c-4fad-4ed0-ba77-e9bcf4c4064a@sportplan.local
DTSTAMP:20260420T170214Z
DTSTART;VALUE=DATE:20260329
DTEND;VALUE=DATE:20260330
SUMMARY:GFNY Toscana 2026
DESCRIPTION:GFNY Toscana 2026 is an official amateur participation road cycling gran fondo in Pistoia\, Tuscany\, Italy. The official GFNY Pistoia site lists 29 March 2026 as race day and describes a timed long-course race of 127 km with 1\,389 m of climbing starting and finishing in Piazza del Duomo\, plus a non-competitive medium route of 52 km. Organizer copy places the course through the Montalbano hills\, Vinci\, Montespertoli\, and San Baronto\, making it a public-entry gran fondo rather than a pro-only race.
LOCATION:Pistoia\, Tuscany
URL:https://sportplan.vercel.app/it/events/gfny-toscana-2026-pistoia-2026-03-29
END:VEVENT
END:VCALENDAR
