BEGIN:VCALENDAR
VERSION:2.0
PRODID:-//SportPlan//Event Calendar//EN
CALSCALE:GREGORIAN
BEGIN:VEVENT
UID:fcdd0ee1-ef94-44b4-8e8d-34e16942f1e3@sportplan.local
DTSTAMP:20260420T194734Z
DTSTART;VALUE=DATE:20261108
DTEND;VALUE=DATE:20261109
SUMMARY:GFNY Cozumel 2026
DESCRIPTION:GFNY Cozumel 2026 is an amateur road-cycling gran fondo in Cozumel\, Mexico on 8 November 2026. The official GFNY Cozumel site lists the 2026 event date and describes two open mass-participation formats\, including a competitive long course and a medium route around the island.
LOCATION:Cozumel
URL:https://sportplan.vercel.app/it/events/gfny-cozumel-2026-2026-11-08
END:VEVENT
END:VCALENDAR
