BEGIN:VCALENDAR
VERSION:2.0
PRODID:-//SportPlan//Event Calendar//EN
CALSCALE:GREGORIAN
BEGIN:VEVENT
UID:e1907aba-1e6e-4748-a774-4089d47d7fed@sportplan.local
DTSTAMP:20260420T194653Z
DTSTART;VALUE=DATE:20260927
DTEND;VALUE=DATE:20260928
SUMMARY:GFNY Chile 2026
DESCRIPTION:GFNY Chile 2026 is an amateur road-cycling gran fondo in Casablanca\, Valparaíso Region\, Chile on 27 September 2026. The official GFNY Chile site names Viñedos Veramonte in Casablanca as the host venue and promotes an open gran fondo course riding toward the Pacific and back\, including the steep Muro de Tunquén climb.
LOCATION:Casablanca
URL:https://sportplan.vercel.app/it/events/gfny-chile-2026-2026-09-27
END:VEVENT
END:VCALENDAR
