BEGIN:VCALENDAR
VERSION:2.0
PRODID:-//SportPlan//Event Calendar//EN
CALSCALE:GREGORIAN
BEGIN:VEVENT
UID:2eef8009-c3ca-4473-956a-9a705aa7a688@sportplan.local
DTSTAMP:20260420T165217Z
DTSTART;VALUE=DATE:20260322
DTEND;VALUE=DATE:20260323
SUMMARY:GFNY Aguascalientes 2026
DESCRIPTION:GFNY Aguascalientes 2026 is an amateur road-cycling gran fondo in Aguascalientes\, Mexico on 22 March 2026. The official GFNY Aguascalientes page lists the 2026 event date\, describes long-course competition and a medium participation route\, and places the start and finish at Isla San Marcos.
LOCATION:Aguascalientes
URL:https://sportplan.vercel.app/it/events/gfny-aguascalientes-2026-2026-03-22
END:VEVENT
END:VCALENDAR
