BEGIN:VCALENDAR
VERSION:2.0
PRODID:-//SportPlan//Event Calendar//EN
CALSCALE:GREGORIAN
BEGIN:VEVENT
UID:8f824154-6f9d-493d-a331-29e86dec4306@sportplan.local
DTSTAMP:20260420T211553Z
DTSTART;VALUE=DATE:20260510
DTEND;VALUE=DATE:20260511
SUMMARY:Generali Genève Marathon — Wheelchair Race
DESCRIPTION:discovered via direct web_fetch on official race site\; Switzerland expansion
LOCATION:Geneva\, Switzerland
URL:https://sportplan.vercel.app/it/events/generali-geneve-marathon-wheelchair-race-2026-05-10
END:VEVENT
END:VCALENDAR
