BEGIN:VCALENDAR
VERSION:2.0
PRODID:-//SportPlan//Event Calendar//EN
CALSCALE:GREGORIAN
BEGIN:VEVENT
UID:0b70e97a-d241-43fc-8df8-e98be11d0550@sportplan.local
DTSTAMP:20260420T211355Z
DTSTART;VALUE=DATE:20260510
DTEND;VALUE=DATE:20260511
SUMMARY:Generali Genève Marathon — Relay Marathon by Core Lean
DESCRIPTION:discovered via direct web_fetch on official race site\; Switzerland expansion
LOCATION:Geneva\, Switzerland
URL:https://sportplan.vercel.app/it/events/generali-geneve-marathon-relay-marathon-by-core-lean-2026-05-10
END:VEVENT
END:VCALENDAR
