BEGIN:VCALENDAR
VERSION:2.0
PRODID:-//SportPlan//Event Calendar//EN
CALSCALE:GREGORIAN
BEGIN:VEVENT
UID:81d63508-393e-4216-ba70-cdd1f6b30d1b@sportplan.local
DTSTAMP:20260420T211251Z
DTSTART;VALUE=DATE:20260510
DTEND;VALUE=DATE:20260511
SUMMARY:Generali Genève Marathon — Marathon
DESCRIPTION:discovered via direct web_fetch on official race site\; Switzerland expansion
LOCATION:Geneva\, Switzerland
URL:https://sportplan.vercel.app/it/events/generali-geneve-marathon-marathon-2026-05-10
END:VEVENT
END:VCALENDAR
