BEGIN:VCALENDAR
VERSION:2.0
PRODID:-//SportPlan//Event Calendar//EN
CALSCALE:GREGORIAN
BEGIN:VEVENT
UID:2f118046-a2f5-42d0-ba1f-9c8d6e589bde@sportplan.local
DTSTAMP:20260420T211356Z
DTSTART;VALUE=DATE:20260509
DTEND;VALUE=DATE:20260510
SUMMARY:Generali Genève Marathon — Junior Races
DESCRIPTION:discovered via direct web_fetch on official race site\; Switzerland expansion
LOCATION:Geneva\, Switzerland
URL:https://sportplan.vercel.app/it/events/generali-geneve-marathon-junior-races-2026-05-09
END:VEVENT
END:VCALENDAR
