BEGIN:VCALENDAR
VERSION:2.0
PRODID:-//SportPlan//Event Calendar//EN
CALSCALE:GREGORIAN
BEGIN:VEVENT
UID:41bccc5c-b066-4d86-86cf-a645fef51b82@sportplan.local
DTSTAMP:20260420T211137Z
DTSTART;VALUE=DATE:20261004
DTEND;VALUE=DATE:20261005
SUMMARY:Generali Cologne Marathon
DESCRIPTION:official event page\; Tier 2 country scout
LOCATION:Cologne\, Germany
URL:https://sportplan.vercel.app/it/events/generali-cologne-marathon-2026-10-04
END:VEVENT
END:VCALENDAR
