BEGIN:VCALENDAR
VERSION:2.0
PRODID:-//SportPlan//Event Calendar//EN
CALSCALE:GREGORIAN
BEGIN:VEVENT
UID:ae2d562e-7278-4cab-9412-06e4aa0a7c1e@sportplan.local
DTSTAMP:20260420T224456Z
DTSTART;VALUE=DATE:20260607
DTEND;VALUE=DATE:20260608
SUMMARY:Gangneung International Half Marathon 2026
DESCRIPTION:Official World Athletics calendar\; annual summer half marathon in Gangneung coastal city\, Gangwon Province
LOCATION:Gangneung (KOR)
URL:https://sportplan.vercel.app/it/events/gangneung-international-half-marathon-2026-2026-06-07
END:VEVENT
END:VCALENDAR
