BEGIN:VCALENDAR
VERSION:2.0
PRODID:-//SportPlan//Event Calendar//EN
CALSCALE:GREGORIAN
BEGIN:VEVENT
UID:53b366b9-f7bd-40b6-92c3-2c297cb4d991@sportplan.local
DTSTAMP:20260420T211637Z
DTSTART;VALUE=DATE:20260725
DTEND;VALUE=DATE:20260726
SUMMARY:Fura la Palma 2026 — Individual Elite Masculino
DESCRIPTION:Fura la Palma 2026 — Individual Elite Masculino se celebrará el 25 de julio de 2026 en Llanos de Aridane (Los). Es una buena opción para quienes buscan un reto bien organizado y una jornada deportiva en un entorno especial. Consulta los detalles del recorrido y prepara tu participación con tiempo para aprovechar mejor la experiencia.
LOCATION:Llanos de Aridane (Los)
URL:https://sportplan.vercel.app/it/events/fura-la-palma-2026-individual-elite-masculino-llanos-de-aridane-los-2026-07-25
END:VEVENT
END:VCALENDAR
