BEGIN:VCALENDAR
VERSION:2.0
PRODID:-//SportPlan//Event Calendar//EN
CALSCALE:GREGORIAN
BEGIN:VEVENT
UID:9f2c2ec6-a7e7-4c9b-ac5b-4e1bd27c9932@sportplan.local
DTSTAMP:20260420T194457Z
DTSTART;VALUE=DATE:20260606
DTEND;VALUE=DATE:20260607
SUMMARY:FUNIMROZ 11 KM
DESCRIPTION:Official course page for the 11 km distance.
LOCATION:Gökçeada\, Türkiye
URL:https://sportplan.vercel.app/it/events/funimroz-11-km-2026-06-06
END:VEVENT
END:VCALENDAR
