BEGIN:VCALENDAR
VERSION:2.0
PRODID:-//SportPlan//Event Calendar//EN
CALSCALE:GREGORIAN
BEGIN:VEVENT
UID:679293c2-f3e8-4239-a955-6e4e6a4f3fbf@sportplan.local
DTSTAMP:20260420T194834Z
DTSTART;VALUE=DATE:20260926
DTEND;VALUE=DATE:20260927
SUMMARY:Frequently Asked Questions – Ultra Paine®
DESCRIPTION:Ultra trail running race around Torres del Paine National Park\, Patagonia\, Chile: 50K - 35K - 21K - 14K - 5K\n.
LOCATION:Torres del Paine\, Patagonia\, Chile
URL:https://sportplan.vercel.app/it/events/frequently-asked-questions-ultra-paine-2026-09-26
END:VEVENT
END:VCALENDAR
