BEGIN:VCALENDAR
VERSION:2.0
PRODID:-//SportPlan//Event Calendar//EN
CALSCALE:GREGORIAN
BEGIN:VEVENT
UID:d42d8370-7bcb-4820-8723-2012e5268bda@sportplan.local
DTSTAMP:20260420T211219Z
DTSTART;VALUE=DATE:20260830
DTEND;VALUE=DATE:20260831
SUMMARY:Fredericia111 2026
DESCRIPTION:Fredericia111 2026 is an official amateur triathlon in Fredericia\, Denmark on 30 August 2026. Triatlon Danmark lists the inaugural event with a 1 km swim\, 100 km bike\, and 10 km run main race plus half\, sprint\, and relay options so regular age-group athletes can enter at multiple levels.
LOCATION:Fredericia
URL:https://sportplan.vercel.app/it/events/fredericia111-2026-2026-08-30
END:VEVENT
END:VCALENDAR
