BEGIN:VCALENDAR
VERSION:2.0
PRODID:-//SportPlan//Event Calendar//EN
CALSCALE:GREGORIAN
BEGIN:VEVENT
UID:e2ea3cd4-04ef-469a-9707-77d8cdf05c60@sportplan.local
DTSTAMP:20260420T165302Z
DTSTART;VALUE=DATE:20260420
DTEND;VALUE=DATE:20260421
SUMMARY:Foulées d'Or de la Rns
DESCRIPTION:Foulées d'Or de la Rns aura lieu le 20 avril 2026 à Vichy\, avec une atmosphère idéale pour les coureurs en quête de défi et de convivialité. Avec un parcours de 5 km\, l'épreuve conviendra aussi bien à celles et ceux qui visent un chrono qu'aux participants venus profiter d'une belle journée sportive. C'est un bon rendez-vous pour découvrir la destination\, partager l'énergie du peloton et vivre une course au caractère bien marqué.
LOCATION:Vichy
URL:https://sportplan.vercel.app/it/events/foulees-d-or-de-la-rns-vichy-2026-04-20
END:VEVENT
END:VCALENDAR
