BEGIN:VCALENDAR
VERSION:2.0
PRODID:-//SportPlan//Event Calendar//EN
CALSCALE:GREGORIAN
BEGIN:VEVENT
UID:307140eb-5a47-40b7-b427-b561c50ab4c5@sportplan.local
DTSTAMP:20260420T224640Z
DTSTART;VALUE=DATE:20260418
DTEND;VALUE=DATE:20260419
SUMMARY:Fossavatnsgangan 25 km 2026
DESCRIPTION:Fossavatnsgangan 25 km is the official 25 km classic amateur cross-country ski race of Fossavatnsgangan in Ísafjörður\, Iceland\, on 18 April 2026. The organizer presents it as a challenging but accessible public race from Seljalandsdalur with classic style\, backpack requirement\, multiple aid stations\, and a mixed course featuring major climbs before a long descent to the finish.
LOCATION:Seljalandsdalur\, Ísafjörður\, Iceland
URL:https://sportplan.vercel.app/it/events/fossavatnsgangan-25-km-2026-isafjordur-2026-04-18
END:VEVENT
END:VCALENDAR
