BEGIN:VCALENDAR
VERSION:2.0
PRODID:-//SportPlan//Event Calendar//EN
CALSCALE:GREGORIAN
BEGIN:VEVENT
UID:178873e9-5acb-4812-bdeb-73a116c9489d@sportplan.local
DTSTAMP:20260420T201444Z
DTSTART;VALUE=DATE:20260920
DTEND;VALUE=DATE:20260921
SUMMARY:Fitletix Vienna
DESCRIPTION:Fitletix Vienna findet am 20. September 2026 in Viena statt. Die Veranstaltung bietet ein starkes Lauferlebnis mit einer Strecke\, die für Läuferinnen und Läufer verschiedener Niveaus geeignet ist. Sie eignet sich sowohl für ambitionierte Teilnehmende als auch für alle\, die Strecke und Eventstimmung genießen möchten.
LOCATION:Viena
URL:https://sportplan.vercel.app/it/events/fitletix-vienna-viena-2026-09-20
END:VEVENT
END:VCALENDAR
