BEGIN:VCALENDAR
VERSION:2.0
PRODID:-//SportPlan//Event Calendar//EN
CALSCALE:GREGORIAN
BEGIN:VEVENT
UID:87234bcd-778c-4ab0-a0fe-8c05fbd3f502@sportplan.local
DTSTAMP:20260420T211218Z
DTSTART;VALUE=DATE:20260501
DTEND;VALUE=DATE:20260502
SUMMARY:Fitletix Graz
DESCRIPTION:Fitletix Graz findet am 01.05.2026 in Graz\, AT\, statt\, mit einer offiziellen Streckenlänge des Veranstalters. Die Veranstaltung bietet eine starke Atmosphäre\, ein klares sportliches Ziel und ein aktives Erlebnis in besonderer Umgebung.
LOCATION:Graz
URL:https://sportplan.vercel.app/it/events/fitletix-graz-graz-2026-05-01
END:VEVENT
END:VCALENDAR
