BEGIN:VCALENDAR
VERSION:2.0
PRODID:-//SportPlan//Event Calendar//EN
CALSCALE:GREGORIAN
BEGIN:VEVENT
UID:bd720c4b-def5-4692-9277-ba566f51f1f2@sportplan.local
DTSTAMP:20260420T211622Z
DTSTART;VALUE=DATE:20260906
DTEND;VALUE=DATE:20260907
SUMMARY:FIONIA Long Distance Triathlon powered by Sparekassen
DESCRIPTION:FIONIA Long Distance Triathlon powered by Sparekassen is an official amateur long-distance triathlon in Denmark on 6 September 2026. Triatlon Danmark presents it as a new federation-led full-distance event on Funen with a route from Nyborg to Odense\, and the official FIONIA site says relay participation is also available for regular athletes.
LOCATION:Nyborg to Odense\, Funen
URL:https://sportplan.vercel.app/it/events/fionia-long-distance-triathlon-powered-by-sparekassen-nyborg-odense-2026-09-06
END:VEVENT
END:VCALENDAR
