BEGIN:VCALENDAR
VERSION:2.0
PRODID:-//SportPlan//Event Calendar//EN
CALSCALE:GREGORIAN
BEGIN:VEVENT
UID:6ebaff16-757f-4ab2-88f0-3b0502edec71@sportplan.local
DTSTAMP:20260421T002844Z
DTSTART;VALUE=DATE:20260710
DTEND;VALUE=DATE:20260712
SUMMARY:Finntriathlon Joroinen 2026
DESCRIPTION:Finntriathlon Joroinen 2026 is an official amateur triathlon weekend in Joroinen\, Finland on 10 and 11 July 2026. The event is linked from the Suomen Triathlonliitto competition calendar and the official Finntriathlon page describes open participation from children’s races and pikatriathlon up to the traditional half-distance weekend centerpiece in Joroinen.
LOCATION:Joroinen
URL:https://sportplan.vercel.app/it/events/finntriathlon-joroinen-2026-2026-07-10
END:VEVENT
END:VCALENDAR
