BEGIN:VCALENDAR
VERSION:2.0
PRODID:-//SportPlan//Event Calendar//EN
CALSCALE:GREGORIAN
BEGIN:VEVENT
UID:54667b4a-4923-4d5d-ad38-d9ebd70c4f40@sportplan.local
DTSTAMP:20260420T215127Z
DTSTART;VALUE=DATE:20270221
DTEND;VALUE=DATE:20270222
SUMMARY:Finlandia-hiihto Free-Style 62 km 2027
DESCRIPTION:Finlandia-hiihto is a long-running public cross-country ski weekend in Lahti. The official program page lists an open 62 km free-style race on Sunday 21 February 2027\, continuing the Finlandia-hiihto weekend with a full-distance skate-ski option for amateur participants.
LOCATION:Lahti\, Päijät-Häme\, Finland
URL:https://sportplan.vercel.app/it/events/finlandia-hiihto-free-style-62km-2027-lahti-2027-02-21
END:VEVENT
END:VCALENDAR
