BEGIN:VCALENDAR
VERSION:2.0
PRODID:-//SportPlan//Event Calendar//EN
CALSCALE:GREGORIAN
BEGIN:VEVENT
UID:ba38754f-408a-473e-a63b-4a91bc1d4ec1@sportplan.local
DTSTAMP:20260420T211638Z
DTSTART;VALUE=DATE:20260801
DTEND;VALUE=DATE:20260802
SUMMARY:Famara Marató 30K - Copa de CXM Lanzarote
DESCRIPTION:Famara Marató 30K - Copa de CXM Lanzarote se celebrará el 1 de agosto de 2026 en Caleta de Famara\, Lanzarote\, Canarias. Es una buena opción para quienes buscan un reto bien organizado y una jornada deportiva en un entorno especial. La distancia anunciada es de 30 km\, ideal para planificar ritmo\, entrenamiento y logística con antelación.
LOCATION:Caleta de Famara\, Lanzarote\, Canarias
URL:https://sportplan.vercel.app/it/events/famara-marato-30k-copa-de-cxm-lanzarote-caleta-de-famara-2026-08-01-30k
END:VEVENT
END:VCALENDAR
