BEGIN:VCALENDAR
VERSION:2.0
PRODID:-//SportPlan//Event Calendar//EN
CALSCALE:GREGORIAN
BEGIN:VEVENT
UID:cd75a929-1e8b-4b56-9ff0-f6de77987cf8@sportplan.local
DTSTAMP:20260420T224327Z
DTSTART;VALUE=DATE:20261201
DTEND;VALUE=DATE:20261202
SUMMARY:Érguete e Corre 10K
DESCRIPTION:Érguete e Corre 10K se celebrará el 1 de diciembre de 2026 en Vigo\, Ourense\, Galicia. Es una buena cita para quienes quieren vivir el ambiente del evento en directo y planificar la jornada con antelación. La sede prevista está a unos 10 km\, así que conviene revisar accesos\, horarios y servicios antes de salir.
LOCATION:Vigo\, Ourense\, Galicia
URL:https://sportplan.vercel.app/it/events/erguete-e-corre-10k-vigo-2026-12-01-10k
END:VEVENT
END:VCALENDAR
