BEGIN:VCALENDAR
VERSION:2.0
PRODID:-//SportPlan//Event Calendar//EN
CALSCALE:GREGORIAN
BEGIN:VEVENT
UID:8ff84f38-d21b-4b5e-86dd-6f2beafaeec8@sportplan.local
DTSTAMP:20260420T211220Z
DTSTART;VALUE=DATE:20260925
DTEND;VALUE=DATE:20260928
SUMMARY:EOC Tour 2026
DESCRIPTION:EOC Tour 2026 is an official three-day public orienteering competition in Druskininkai\, Lithuania from 25 to 27 September 2026. The official EOC 2026 website says the event is for all orienteering enthusiasts and gives supporters a chance to compete on the same terrain used for the European Orienteering Championships\, with official information and registration links provided on the event site.
LOCATION:Druskininkai
URL:https://sportplan.vercel.app/it/events/eoc-tour-2026-2026-09-25
END:VEVENT
END:VCALENDAR
