BEGIN:VCALENDAR
VERSION:2.0
PRODID:-//SportPlan//Event Calendar//EN
CALSCALE:GREGORIAN
BEGIN:VEVENT
UID:443b02eb-4ebb-42bc-943a-7c212f832f50@sportplan.local
DTSTAMP:20260420T201629Z
DTSTART;VALUE=DATE:20260711
DTEND;VALUE=DATE:20260712
SUMMARY:Entrenamiento mmB del 11 de julio
DESCRIPTION:discovered via Eventbrite Colombia running search pages\; direct event page schema validated\; source family: event marketplace
LOCATION:Plaza de Eventos Simón Bolívar\, Bogotá\, Bogotá\, Colombia
URL:https://sportplan.vercel.app/it/events/entrenamiento-mmb-del-11-de-julio-2026-07-11
END:VEVENT
END:VCALENDAR
