BEGIN:VCALENDAR
VERSION:2.0
PRODID:-//SportPlan//Event Calendar//EN
CALSCALE:GREGORIAN
BEGIN:VEVENT
UID:f7790bf5-f953-4da4-8330-084b79e0c9e5@sportplan.local
DTSTAMP:20260420T235450Z
DTSTART;VALUE=DATE:20270314
DTEND;VALUE=DATE:20270315
SUMMARY:Engadin Halbmarathon 21 km 2027
DESCRIPTION:The Engadin Halbmarathon is the shorter public race of Switzerland's Engadin Skimarathon weekend. The official organizer page lists the 18th edition on 14 March 2027 over 21 km from Maloja to Pontresina\, with online registration open for amateur participants.
LOCATION:Maloja to Pontresina\, Graubünden\, Switzerland
URL:https://sportplan.vercel.app/it/events/engadin-halbmarathon-21km-2027-pontresina-2027-03-14
END:VEVENT
END:VCALENDAR
