BEGIN:VCALENDAR
VERSION:2.0
PRODID:-//SportPlan//Event Calendar//EN
CALSCALE:GREGORIAN
BEGIN:VEVENT
UID:6c96dd56-4e75-4de6-ab78-161129a659bd@sportplan.local
DTSTAMP:20260421T000148Z
DTSTART;VALUE=DATE:20270307
DTEND;VALUE=DATE:20270308
SUMMARY:Engadin Frauenlauf 17 km 2027
DESCRIPTION:The Engadin Frauenlauf is the women's public cross-country ski race of the Engadin marathon week. The official organizer page lists the 26th edition on 7 March 2027 over 17 km from Samedan to S-chanf\, with online registration already open.
LOCATION:Samedan to S-chanf\, Graubünden\, Switzerland
URL:https://sportplan.vercel.app/it/events/engadin-frauenlauf-17km-2027-s-chanf-2027-03-07
END:VEVENT
END:VCALENDAR
