BEGIN:VCALENDAR
VERSION:2.0
PRODID:-//SportPlan//Event Calendar//EN
CALSCALE:GREGORIAN
BEGIN:VEVENT
UID:dd6eb88a-b7a6-4fe4-a6ff-d01747e23ac1@sportplan.local
DTSTAMP:20260421T012619Z
DTSTART;VALUE=DATE:20260523
DTEND;VALUE=DATE:20260524
SUMMARY:Endless Shore Ultra Trail
DESCRIPTION:Endless Shore Ultra Trail arrangeres 23 mai 2026 i Norway. Dette er en flott anledning til å oppleve stemningen rundt arrangementet og dele dagen med andre deltakere. Et godt valg for deg som vil sette deg et tydelig sesongmål og få en velorganisert opplevelse.
LOCATION:Norway
URL:https://sportplan.vercel.app/it/events/endless-shore-ultra-trail-2026-05-23
END:VEVENT
END:VCALENDAR
