BEGIN:VCALENDAR
VERSION:2.0
PRODID:-//SportPlan//Event Calendar//EN
CALSCALE:GREGORIAN
BEGIN:VEVENT
UID:db6c6e4a-7aa1-42b0-ba35-39520ab82eaa@sportplan.local
DTSTAMP:20260420T223904Z
DTSTART;VALUE=DATE:20260926
DTEND;VALUE=DATE:20260927
SUMMARY:ELKE Tallinn Run - Noblessner
DESCRIPTION:Road running event discovered via World's Marathons search.
LOCATION:Tallinn\, Estonia
URL:https://sportplan.vercel.app/it/events/elke-tallinn-run-noblessner-2026-09-26
END:VEVENT
END:VCALENDAR
