BEGIN:VCALENDAR
VERSION:2.0
PRODID:-//SportPlan//Event Calendar//EN
CALSCALE:GREGORIAN
BEGIN:VEVENT
UID:15789a09-5555-4fc4-8b26-e7ff9b1b41cd@sportplan.local
DTSTAMP:20260420T194618Z
DTSTART;VALUE=DATE:20260614
DTEND;VALUE=DATE:20260615
SUMMARY:Eifel Marathon
DESCRIPTION:Eifel Marathon findet am 14. Juni 2026 in Waxweiler statt. Die Veranstaltung bietet eine gute Gelegenheit\, die besondere Atmosphäre vor Ort zu erleben und gemeinsam mit anderen Teilnehmenden dabei zu sein. Prüfen Sie die Veranstaltungsdetails rechtzeitig\, um Ihre Teilnahme optimal zu planen.
LOCATION:Waxweiler
URL:https://sportplan.vercel.app/it/events/eifel-marathon-waxweiler-2026-06-14
END:VEVENT
END:VCALENDAR
