BEGIN:VCALENDAR
VERSION:2.0
PRODID:-//SportPlan//Event Calendar//EN
CALSCALE:GREGORIAN
BEGIN:VEVENT
UID:c7fe077c-e04d-43dc-b802-6806d8a862e7@sportplan.local
DTSTAMP:20260420T211337Z
DTSTART;VALUE=DATE:20260503
DTEND;VALUE=DATE:20260504
SUMMARY:Durban International Marathon
DESCRIPTION:World's Marathons event page for Durban International Marathon\; 42.2km & 10km\; 3 May 2026\; CAA-SR championships qualifier\; ZA running discovery batch
LOCATION:Durban\, KwaZulu-Natal\, South Africa
URL:https://sportplan.vercel.app/it/events/durban-international-marathon-2026-05-03
END:VEVENT
END:VCALENDAR
