BEGIN:VCALENDAR
VERSION:2.0
PRODID:-//SportPlan//Event Calendar//EN
CALSCALE:GREGORIAN
BEGIN:VEVENT
UID:cc275fc5-7ea2-4686-a889-cd01310122dc@sportplan.local
DTSTAMP:20260420T181703Z
DTSTART;VALUE=DATE:20260426
DTEND;VALUE=DATE:20260427
SUMMARY:Dubrovnik Half Marathon 2026
DESCRIPTION:Official Du Motion page for Dubrovnik Half Marathon 2026 on 26 April 2026. The race starts at 09:30 on Stradun and covers 21.1 km through Dubrovnik's Old Town approaches\, coast road and urban waterfront before finishing back in the historic centre.
LOCATION:Stradun\, Dubrovnik
URL:https://sportplan.vercel.app/it/events/dubrovnik-half-marathon-2026-dubrovnik-2026-04-26
END:VEVENT
END:VCALENDAR
