BEGIN:VCALENDAR
VERSION:2.0
PRODID:-//SportPlan//Event Calendar//EN
CALSCALE:GREGORIAN
BEGIN:VEVENT
UID:df82168a-bd84-4980-85bc-e41dd7774e21@sportplan.local
DTSTAMP:20260420T211255Z
DTSTART;VALUE=DATE:20260920
DTEND;VALUE=DATE:20260921
SUMMARY:Dublin Half Marathon 2026
DESCRIPTION:The official Irish Life Dublin Marathon Race Series page is the current organizer-run hub for Dublin road-race events. A dedicated 2026 Dublin Half Marathon detail page was not directly available from this environment during verification\, so the official race-series page is used conservatively as the canonical website.
LOCATION:Dublin\, Leinster
URL:https://sportplan.vercel.app/it/events/dublin-half-marathon-2026-dublin-2026-09-20
END:VEVENT
END:VCALENDAR
