BEGIN:VCALENDAR
VERSION:2.0
PRODID:-//SportPlan//Event Calendar//EN
CALSCALE:GREGORIAN
BEGIN:VEVENT
UID:dc123b0b-8319-4539-8627-a1e1870a8520@sportplan.local
DTSTAMP:20260420T195232Z
DTSTART;VALUE=DATE:20260501
DTEND;VALUE=DATE:20260502
SUMMARY:Duatlo Jovem de Vila Nova de Cerveira
DESCRIPTION:Official Federação de Triatlo de Portugal event page for the 2026 Duatlo Jovem de Vila Nova de Cerveira.
LOCATION:Vila Nova de Cerveira\, Portugal
URL:https://sportplan.vercel.app/it/events/duatlo-jovem-de-vila-nova-de-cerveira-vila-nova-de-cerveira-2026-05-01
END:VEVENT
END:VCALENDAR
